BEGIN:VCALENDAR
PRODID:-//eluceo/ical//2.0/EN
VERSION:2.0
CALSCALE:GREGORIAN
BEGIN:VEVENT
UID:9ddb0af2cacf47aa6bd4f30b40ac2641
DTSTAMP:20260424T160656Z
SUMMARY:VON HERZEN Tour in Bad Belzig
DESCRIPTION:Leckere Waffeln und Grillwürste\, Kaiserschmarrn\, natürlich 
 kistenweise Geschenke und vieles mehr: Nur noch wenige Wochen\, dann start
 et wieder unsere AWO VON HERZEN Tour - diesmal geht es bereits Anfang Deze
 mber los. Die Märkte sind Adventszeit pur und richten sich an Familien mi
 t Kindern\, die sich einen solchen Besuch oder auch Geschenke kaum leisten
  können. Am 5. Dezember macht die Tour Station in Bad Belzig.\nWie aus de
 m Nichts entsteht an diesem Tag ein Nikolausmarkt\, organisiert von der le
 gendären Rentier-Truppe und ihren Freund*innen. Von 15:00 bis 18:00 Uhr r
 eiht sich Bude an Bude mit Bauchläden voller Süßigkeiten und Keksen\, a
 lkoholfreiem Punsch\, Kinderspaß und auch kleinen Geschenken.\nDas Tolle 
 ist\, dass der Besuch des AWO VON HERZEN Nikolausmarktes dank der vielen S
 penden kostenfrei ist.
URL:https://von-herzen.awo-potsdam.de/de/termin/von-herzen-tour-in-bad-belz
 ig-2025/
DTSTART:20251205T150000
DTEND:20251205T180000
LOCATION:
END:VEVENT
BEGIN:VTIMEZONE
TZID:Europe/Berlin
BEGIN:STANDARD
DTSTART:20251205T150000
TZNAME:CET
TZOFFSETTO:+0100
TZOFFSETFROM:+0100
END:STANDARD
END:VTIMEZONE
END:VCALENDAR
