BEGIN:VCALENDAR
PRODID:-//eluceo/ical//2.0/EN
VERSION:2.0
CALSCALE:GREGORIAN
BEGIN:VEVENT
UID:73e4a13c8eebe2ae038817f749eb0d9a
DTSTAMP:20260424T162239Z
SUMMARY:VON HERZEN Tour in Rathenow
DESCRIPTION:Leckere Waffeln und Grillwürste\, Kaiserschmarrn\, natürlich 
 kistenweise Geschenke und vieles mehr: Nur noch wenige Wochen\, dann start
 et wieder unsere AWO VON HERZEN Tour. Sie ist Weihnachten pur und richtet 
 sich an Familien mit Kindern\, die sich einen Weihnachtsmarktbesuch oder a
 uch Geschenke kaum leisten können. Am 16. Dezember macht die Tour Station
  in Rathenow.\nWie aus dem Nichts entsteht an diesem Tag wieder ein Weihna
 chtsmarkt auf dem Platz vor und im Kulturzentrum Rathenow\, organisiert vo
 n der legendären Rentier-Truppe und ihren Freund*innen. Von 15:00 bis 18:
 00 Uhr reiht sich Bude an Bude mit Bauchläden voller Süßigkeiten und Ke
 ksen\, alkoholfreiem Punsch\, Kinderspaß\, einem kunterbunten Kulturprogr
 amm und kleinen Geschenken.\nDas Tolle ist\, dass der Besuch der AWO VON H
 ERZEN Weihnachtsmärkte dank der vielen Spenden kostenfrei ist.
URL:https://von-herzen.awo-potsdam.de/de/termin/von-herzen-tour-in-rathenow
 -2025/
DTSTART:20251216T150000
DTEND:20251216T180000
LOCATION:
END:VEVENT
BEGIN:VTIMEZONE
TZID:Europe/Berlin
BEGIN:STANDARD
DTSTART:20251216T150000
TZNAME:CET
TZOFFSETTO:+0100
TZOFFSETFROM:+0100
END:STANDARD
END:VTIMEZONE
END:VCALENDAR
