BEGIN:VCALENDAR
PRODID:-//eluceo/ical//2.0/EN
VERSION:2.0
CALSCALE:GREGORIAN
BEGIN:VEVENT
UID:fdf78237a31bd15d85e60ccf13f9fccc
DTSTAMP:20260420T003518Z
SUMMARY:VON HERZEN Tour in Potsdam
DESCRIPTION:Die VON HERZEN Tour ist Weihnachten pur. Sie ist eine Weihnacht
 saktion des AWO Bezirksverband Potsdam e.V. Die Tour richtet sich insbeson
 dere an Familien mit Kindern\, die sich einen Weihnachtsmarktbesuch oder a
 uch Geschenke kaum oder gar nicht leisten können. \nWie aus dem Nichts en
 tsteht an diesem Tag ein Weihnachtsmarkt. Von 15:00 bis 18:00 Uhr reiht si
 ch Bude an Bude. Hier gibt es Waffeln\, Quarkbällchen\, alkoholfreien Pun
 sch\, Deftiges vom Grill und aus aller Welt\, Kinderspaß\, ein kunterbunt
 es Kulturprogramm und kleine Geschenke.\nDas Tolle ist\, dass der Besuch d
 er VON HERZEN Weihnachtsmärkte kostenfrei ist. 
URL:https://von-herzen.awo-potsdam.de/de/termin/von-herzen-tour-potsdam/
DTSTART:20231221T150000
DTEND:20231221T180000
LOCATION:Bürgerhaus am Schlaatz
END:VEVENT
BEGIN:VTIMEZONE
TZID:Europe/Berlin
BEGIN:STANDARD
DTSTART:20231221T150000
TZNAME:CET
TZOFFSETTO:+0100
TZOFFSETFROM:+0100
END:STANDARD
END:VTIMEZONE
END:VCALENDAR
