BEGIN:VCALENDAR
PRODID:-//eluceo/ical//2.0/EN
VERSION:2.0
CALSCALE:GREGORIAN
BEGIN:VEVENT
UID:03929acc2c4f7cf53aaa1187729857bc
DTSTAMP:20260420T003206Z
SUMMARY:VON HERZEN Tour in Rathenow
DESCRIPTION:Die VON HERZEN Tour ist Weihnachten pur. Sie ist eine Weihnacht
 saktion des AWO Bezirksverband Potsdam e.V. Die Tour richtet sich insbeson
 dere an Familien mit Kindern\, die sich einen Weihnachtsmarktbesuch oder a
 uch Geschenke kaum oder gar nicht leisten können.\nWie aus dem Nichts ent
 steht an diesem Tag ein Weihnachtsmarkt. Von 15:00 bis 18:00 Uhr reiht sic
 h Bude an Bude. Hier gibt es Waffeln\, Quarkbällchen\, alkoholfreien Puns
 ch\, Deftiges vom Grill und aus aller Welt\, Kinderspaß\, ein kunterbunte
 s Kulturprogramm und kleine Geschenke.\nDas Tolle ist\, dass der Besuch de
 r VON HERZEN Weihnachtsmärkte kostenfrei ist.
URL:https://von-herzen.awo-potsdam.de/de/termin/von-herzen-tour-rathenow/
DTSTART:20231219T150000
DTEND:20231219T180000
LOCATION:
END:VEVENT
BEGIN:VTIMEZONE
TZID:Europe/Berlin
BEGIN:STANDARD
DTSTART:20231219T150000
TZNAME:CET
TZOFFSETTO:+0100
TZOFFSETFROM:+0100
END:STANDARD
END:VTIMEZONE
END:VCALENDAR
